BEGIN:VCALENDAR
VERSION:2.0
PRODID:-//Plone.org//NONSGML plone.app.event//EN
X-WR-TIMEZONE:Europe/Warsaw
BEGIN:VEVENT
SUMMARY:II termin zaliczenia laboratorium IO\, SO1 (studia stacjonarne)
DTSTART;TZID=Europe/Warsaw;VALUE=DATE-TIME:20260204T100000
DTEND;TZID=Europe/Warsaw;VALUE=DATE-TIME:20260204T113000
DTSTAMP;VALUE=DATE-TIME:20260419T205912Z
UID:9f6cdba25f364d7cbb1c7bdd01ad05d8@127.0.0.1:6969
CREATED;VALUE=DATE-TIME:20260115T071014Z
LAST-MODIFIED;VALUE=DATE-TIME:20260115T113151Z
LOCATION:312D
URL:https://achilles.tu.kielce.pl/portal/Members/361b21c538af45929c9a78f34
 7a53835/ii-termin-zaliczenia-laboratorium-io-studia-stacjonarne
END:VEVENT
BEGIN:VTIMEZONE
TZID:Europe/Warsaw
X-LIC-LOCATION:Europe/Warsaw
BEGIN:STANDARD
DTSTART;VALUE=DATE-TIME:20251026T020000
TZNAME:CET
TZOFFSETFROM:+0200
TZOFFSETTO:+0100
END:STANDARD
END:VTIMEZONE
END:VCALENDAR
