BEGIN:VCALENDAR
VERSION:2.0
PRODID:-//Plone.org//NONSGML plone.app.event//EN
X-WR-TIMEZONE:Europe/Warsaw
BEGIN:VEVENT
SUMMARY:Rezerwacja sali - 3.12 - Spotkania z teleinformatyką
DTSTART;TZID=Europe/Warsaw;VALUE=DATE-TIME:20260218T100000
DTEND;TZID=Europe/Warsaw;VALUE=DATE-TIME:20260218T120000
DTSTAMP;VALUE=DATE-TIME:20260420T122138Z
UID:5f5b272a3a7d4259910e05302d9276f2@127.0.0.1:6969
CREATED;VALUE=DATE-TIME:20250203T073413Z
DESCRIPTION:Rezerwacja sali przez Panią  J. Kęczkowska w ramach warsztat
 ów - Spotkania z teleinformatyką.
LAST-MODIFIED;VALUE=DATE-TIME:20260211T124530Z
URL:https://achilles.tu.kielce.pl/portal/events/rezerwacja-sali-3-12-spotk
 ania-z-teleinformatyka
END:VEVENT
BEGIN:VTIMEZONE
TZID:Europe/Warsaw
X-LIC-LOCATION:Europe/Warsaw
BEGIN:STANDARD
DTSTART;VALUE=DATE-TIME:20251026T020000
TZNAME:CET
TZOFFSETFROM:+0200
TZOFFSETTO:+0100
END:STANDARD
END:VTIMEZONE
END:VCALENDAR
