BEGIN:VCALENDAR
VERSION:2.0
PRODID:-//Plone.org//NONSGML plone.app.event//EN
X-WR-TIMEZONE:Europe/Warsaw
BEGIN:VEVENT
SUMMARY:Rezerwacja sali 3.06 dla dr inż. A. Sikory
DTSTART;TZID=Europe/Warsaw;VALUE=DATE-TIME:20190626T120000
DTEND;TZID=Europe/Warsaw;VALUE=DATE-TIME:20190626T133000
DTSTAMP;VALUE=DATE-TIME:20260420T090459Z
UID:30fc698306394d428e3ef2d0914bbe02@127.0.0.1:6969
CREATED;VALUE=DATE-TIME:20190601T101213Z
DESCRIPTION:Rezerwacja sali 3.06D dla dr inż. Aleksandry Sikory
LAST-MODIFIED;VALUE=DATE-TIME:20190617T191354Z
LOCATION:3.06 D
URL:https://achilles.tu.kielce.pl/portal/events/rezerwacja-sali-3-06-dla-d
 r-inz-a-sikory
END:VEVENT
BEGIN:VTIMEZONE
TZID:Europe/Warsaw
X-LIC-LOCATION:Europe/Warsaw
BEGIN:DAYLIGHT
DTSTART;VALUE=DATE-TIME:20190331T030000
TZNAME:CEST
TZOFFSETFROM:+0100
TZOFFSETTO:+0200
END:DAYLIGHT
END:VTIMEZONE
END:VCALENDAR
