BEGIN:VCALENDAR
VERSION:2.0
PRODID:-//Plone.org//NONSGML plone.app.event//EN
X-WR-TIMEZONE:Europe/Warsaw
BEGIN:VEVENT
SUMMARY:Przebudowa sieci KIN
DTSTART;TZID=Europe/Warsaw;VALUE=DATE-TIME:20250204T110000
DTEND;TZID=Europe/Warsaw;VALUE=DATE-TIME:20250204T160000
DTSTAMP;VALUE=DATE-TIME:20260423T200413Z
UID:0fe60ca9e9144d7d89a1e8454e52b65b@127.0.0.1:6969
CREATED;VALUE=DATE-TIME:20250203T133523Z
DESCRIPTION:Prace związane z przebudową sieci KIN
LAST-MODIFIED;VALUE=DATE-TIME:20250203T133606Z
URL:https://achilles.tu.kielce.pl/portal/events/przebudowa-sieci-kin-1
END:VEVENT
BEGIN:VTIMEZONE
TZID:Europe/Warsaw
X-LIC-LOCATION:Europe/Warsaw
BEGIN:STANDARD
DTSTART;VALUE=DATE-TIME:20241027T020000
TZNAME:CET
TZOFFSETFROM:+0200
TZOFFSETTO:+0100
END:STANDARD
END:VTIMEZONE
END:VCALENDAR
