BEGIN:VCALENDAR
VERSION:2.0
PRODID:-//Plone.org//NONSGML plone.app.event//EN
X-WR-TIMEZONE:Europe/Warsaw
BEGIN:VEVENT
SUMMARY:Prace serwisowe w serwerowni 3.27
DTSTART;VALUE=DATE:20240524
DTEND;VALUE=DATE:20240525
DTSTAMP;VALUE=DATE-TIME:20260424T171224Z
UID:45efc824a687453fb272ce856f1accc7@127.0.0.1:6969
CREATED;VALUE=DATE-TIME:20240516T063446Z
DESCRIPTION:Serwis UPS
LAST-MODIFIED;VALUE=DATE-TIME:20240520T123635Z
LOCATION:3.27
URL:https://achilles.tu.kielce.pl/portal/events/prace-serwisowe-w-serwerow
 ni-3.27
END:VEVENT
END:VCALENDAR
