BEGIN:VCALENDAR
VERSION:2.0
PRODID:-//Plone.org//NONSGML plone.app.event//EN
X-WR-TIMEZONE:Europe/Warsaw
BEGIN:VEVENT
SUMMARY:III termin zaliczenie wykładu Python 1 [kierunek Teleinformatyka]
DTSTART;TZID=Europe/Warsaw;VALUE=DATE-TIME:20230907T160000
DTEND;TZID=Europe/Warsaw;VALUE=DATE-TIME:20230907T190000
DTSTAMP;VALUE=DATE-TIME:20260419T162630Z
UID:f8882452caf14de28e48467c70109bfc@127.0.0.1:6969
ATTENDEE;CN="Grupy: 1TD11A, 1TD11B, 1TD12A, osoby powtarzające przedmiot"
 ;ROLE=REQ-PARTICIPANT:Grupy: 1TD11A, 1TD11B, 1TD12A, osoby powtarzające p
 rzedmiot
CREATED;VALUE=DATE-TIME:20220529T065244Z
DESCRIPTION:07.09.2023\, godz. 16:00\, sala 3.19D.
LAST-MODIFIED;VALUE=DATE-TIME:20240108T174737Z
LOCATION:3.19D
URL:https://achilles.tu.kielce.pl/portal/Members/ppieta/news/archiwum/2022
 -2023-semestr-letni/iii-termin-zaliczenie-wykladu-python-1-kierunek-telein
 formatyka
END:VEVENT
BEGIN:VTIMEZONE
TZID:Europe/Warsaw
X-LIC-LOCATION:Europe/Warsaw
BEGIN:DAYLIGHT
DTSTART;VALUE=DATE-TIME:20230326T030000
TZNAME:CEST
TZOFFSETFROM:+0100
TZOFFSETTO:+0200
END:DAYLIGHT
END:VTIMEZONE
END:VCALENDAR
