BEGIN:VCALENDAR
VERSION:2.0
PRODID:-//Plone.org//NONSGML plone.app.event//EN
X-WR-TIMEZONE:Europe/Warsaw
BEGIN:VEVENT
SUMMARY:I termin zaliczenie wykładu Python 1 [kierunek Teleinformatyka\, 
 powtarzanie przedmiotu]
DTSTART;TZID=Europe/Warsaw;VALUE=DATE-TIME:20230620T150000
DTEND;TZID=Europe/Warsaw;VALUE=DATE-TIME:20230620T160000
DTSTAMP;VALUE=DATE-TIME:20260424T075900Z
UID:bf2309d692d04e77b83c09f5047a0ce3@127.0.0.1:6969
ATTENDEE;CN="Osoby powtarzające przedmiot";ROLE=REQ-PARTICIPANT:Osoby pow
 tarzające przedmiot
CREATED;VALUE=DATE-TIME:20220529T065244Z
DESCRIPTION:20.06.2023\, godz. 15:00\, sala 3.10D.
LAST-MODIFIED;VALUE=DATE-TIME:20240108T174737Z
LOCATION:3.10D
URL:https://achilles.tu.kielce.pl/portal/Members/ppieta/news/archiwum/2022
 -2023-semestr-letni/i-termin-zaliczenie-wykladu-python-1-kierunek-teleinfo
 rmatyka-poscig
END:VEVENT
BEGIN:VTIMEZONE
TZID:Europe/Warsaw
X-LIC-LOCATION:Europe/Warsaw
BEGIN:DAYLIGHT
DTSTART;VALUE=DATE-TIME:20230326T030000
TZNAME:CEST
TZOFFSETFROM:+0100
TZOFFSETTO:+0200
END:DAYLIGHT
END:VTIMEZONE
END:VCALENDAR
