BEGIN:VCALENDAR
VERSION:2.0
PRODID:-//Plone.org//NONSGML plone.app.event//EN
X-WR-TIMEZONE:Europe/Warsaw
BEGIN:VEVENT
SUMMARY:III termin laboratorium WAPG
DTSTART;TZID=Europe/Warsaw;VALUE=DATE-TIME:20220901T100000
DTEND;TZID=Europe/Warsaw;VALUE=DATE-TIME:20220901T110000
DTSTAMP;VALUE=DATE-TIME:20260421T042251Z
UID:e0c3168d076b4849a279fb9158d7b56d@127.0.0.1:6969
ATTENDEE;CN="Grupy: 1ID23A, 1ID23B i 1ID24A";ROLE=REQ-PARTICIPANT:Grupy: 1
 ID23A, 1ID23B i 1ID24A
CREATED;VALUE=DATE-TIME:20210703T140422Z
DESCRIPTION:01.09.2022\, godz. 10:00\, sala 3.10D.
LAST-MODIFIED;VALUE=DATE-TIME:20221003T212202Z
LOCATION:3.10D
URL:https://achilles.tu.kielce.pl/portal/Members/ppieta/news/archiwum/2021
 -2022-semestr-letni/iii-termin-laboratorium-wapg
END:VEVENT
BEGIN:VTIMEZONE
TZID:Europe/Warsaw
X-LIC-LOCATION:Europe/Warsaw
BEGIN:DAYLIGHT
DTSTART;VALUE=DATE-TIME:20220327T030000
TZNAME:CEST
TZOFFSETFROM:+0100
TZOFFSETTO:+0200
END:DAYLIGHT
END:VTIMEZONE
END:VCALENDAR
