BEGIN:VCALENDAR
VERSION:2.0
PRODID:-//Plone.org//NONSGML plone.app.event//EN
X-WR-TIMEZONE:Europe/Warsaw
BEGIN:VEVENT
SUMMARY:III termin laboratorium IP [studia niestacjonarne]
DTSTART;TZID=Europe/Warsaw;VALUE=DATE-TIME:20220903T090000
DTEND;TZID=Europe/Warsaw;VALUE=DATE-TIME:20220903T100000
DTSTAMP;VALUE=DATE-TIME:20260420T194344Z
UID:60ac2341c4bc42de90952e35fb4d583f@127.0.0.1:6969
ATTENDEE;CN="Grupy: 3IZ11A i 3IZ11B";ROLE=REQ-PARTICIPANT:Grupy: 3IZ11A i 
 3IZ11B
CREATED;VALUE=DATE-TIME:20220622T223601Z
DESCRIPTION:03.09.2022\, godz. 09:00\, sala 2.21DH.
LAST-MODIFIED;VALUE=DATE-TIME:20221003T212200Z
LOCATION:2.21DH
URL:https://achilles.tu.kielce.pl/portal/Members/ppieta/news/archiwum/2021
 -2022-semestr-letni/iii-termin-laboratorium-ip-studia-niestacjonarne
END:VEVENT
BEGIN:VTIMEZONE
TZID:Europe/Warsaw
X-LIC-LOCATION:Europe/Warsaw
BEGIN:DAYLIGHT
DTSTART;VALUE=DATE-TIME:20220327T030000
TZNAME:CEST
TZOFFSETFROM:+0100
TZOFFSETTO:+0200
END:DAYLIGHT
END:VTIMEZONE
END:VCALENDAR
