BEGIN:VCALENDAR
VERSION:2.0
PRODID:-//Plone.org//NONSGML plone.app.event//EN
X-WR-TIMEZONE:Europe/Warsaw
BEGIN:VEVENT
SUMMARY:II termin egzamin Python 1 [studia niestacjonarne]
DTSTART;TZID=Europe/Warsaw;VALUE=DATE-TIME:20220903T110000
DTEND;TZID=Europe/Warsaw;VALUE=DATE-TIME:20220903T130000
DTSTAMP;VALUE=DATE-TIME:20260421T123326Z
UID:56e8ef1c7acb439488bfc59da0004ce8@127.0.0.1:6969
ATTENDEE;CN="Grupa 3IZ12A";ROLE=REQ-PARTICIPANT:Grupa 3IZ12A
CREATED;VALUE=DATE-TIME:20220122T125540Z
DESCRIPTION:03.09.2022\, godz. 11:00\, sala 2.21DH.
LAST-MODIFIED;VALUE=DATE-TIME:20221003T212200Z
LOCATION:2.21DH
URL:https://achilles.tu.kielce.pl/portal/Members/ppieta/news/archiwum/2021
 -2022-semestr-letni/ii-termin-egzamin-python-1-studia-niestacjonarne
END:VEVENT
BEGIN:VTIMEZONE
TZID:Europe/Warsaw
X-LIC-LOCATION:Europe/Warsaw
BEGIN:DAYLIGHT
DTSTART;VALUE=DATE-TIME:20220327T030000
TZNAME:CEST
TZOFFSETFROM:+0100
TZOFFSETTO:+0200
END:DAYLIGHT
END:VTIMEZONE
END:VCALENDAR
