BEGIN:VCALENDAR
VERSION:2.0
PRODID:-//Plone.org//NONSGML plone.app.event//EN
X-WR-TIMEZONE:Europe/Warsaw
BEGIN:VEVENT
SUMMARY:I termin egzamin Python 1 [studia niestacjonarne]
DTSTART;TZID=Europe/Warsaw;VALUE=DATE-TIME:20220709T113000
DTEND;TZID=Europe/Warsaw;VALUE=DATE-TIME:20220709T133000
DTSTAMP;VALUE=DATE-TIME:20260423T161011Z
UID:cd883f40c0644c779d74b8fda01b0ca2@127.0.0.1:6969
ATTENDEE;CN="Grupa 3IZ12A";ROLE=REQ-PARTICIPANT:Grupa 3IZ12A
CREATED;VALUE=DATE-TIME:20220529T065244Z
DESCRIPTION:09.07.2022\, godz. 11:30\, sala 2.21DH.
LAST-MODIFIED;VALUE=DATE-TIME:20221003T212159Z
LOCATION:2.21DH
URL:https://achilles.tu.kielce.pl/portal/Members/ppieta/news/archiwum/2021
 -2022-semestr-letni/i-termin-egzamin-python-1-studia-niestacjonarne
END:VEVENT
BEGIN:VTIMEZONE
TZID:Europe/Warsaw
X-LIC-LOCATION:Europe/Warsaw
BEGIN:DAYLIGHT
DTSTART;VALUE=DATE-TIME:20220327T030000
TZNAME:CEST
TZOFFSETFROM:+0100
TZOFFSETTO:+0200
END:DAYLIGHT
END:VTIMEZONE
END:VCALENDAR
