BEGIN:VCALENDAR
VERSION:2.0
PRODID:-//Plone.org//NONSGML plone.app.event//EN
X-WR-TIMEZONE:Europe/Warsaw
BEGIN:VEVENT
SUMMARY:III termin PY1 (grupa 1TD11B) [kierunek Teleinformatyka]
DTSTART;TZID=Europe/Warsaw;VALUE=DATE-TIME:20210901T120000
DTEND;TZID=Europe/Warsaw;VALUE=DATE-TIME:20210901T140000
DTSTAMP;VALUE=DATE-TIME:20260424T095743Z
UID:a9e1918f891a4f14905f59f43c35db62@127.0.0.1:6969
ATTENDEE;CN="Grupa 1TD11B";ROLE=REQ-PARTICIPANT:Grupa 1TD11B
CREATED;VALUE=DATE-TIME:20210630T220344Z
DESCRIPTION:01.09.2021\, godz. 12:00\, sala 2.21DH.
LAST-MODIFIED;VALUE=DATE-TIME:20211012T224922Z
LOCATION:2.21DH
URL:https://achilles.tu.kielce.pl/portal/Members/ppieta/news/archiwum/2020
 -2021-semestr-letni/iii-termin-py1-grupa-1td11b-kierunek-teleinformatyka
END:VEVENT
BEGIN:VTIMEZONE
TZID:Europe/Warsaw
X-LIC-LOCATION:Europe/Warsaw
BEGIN:DAYLIGHT
DTSTART;VALUE=DATE-TIME:20210328T030000
TZNAME:CEST
TZOFFSETFROM:+0100
TZOFFSETTO:+0200
END:DAYLIGHT
END:VTIMEZONE
END:VCALENDAR
