BEGIN:VCALENDAR
VERSION:2.0
PRODID:-//Plone.org//NONSGML plone.app.event//EN
X-WR-TIMEZONE:Europe/Warsaw
BEGIN:VEVENT
SUMMARY:III termin projekt GK [studia niestacjonarne]
DTSTART;TZID=Europe/Warsaw;VALUE=DATE-TIME:20210904T090000
DTEND;TZID=Europe/Warsaw;VALUE=DATE-TIME:20210904T100000
DTSTAMP;VALUE=DATE-TIME:20260424T171129Z
UID:15fe647561584c8ab4b8bdc2f090c3f6@127.0.0.1:6969
ATTENDEE;CN="Grupa 3IZ11";ROLE=REQ-PARTICIPANT:Grupa 3IZ11
CREATED;VALUE=DATE-TIME:20210612T212243Z
DESCRIPTION:04.09.2021\, godz. 09:00\, sala 3.12D.
LAST-MODIFIED;VALUE=DATE-TIME:20211012T224923Z
LOCATION:3.12D
URL:https://achilles.tu.kielce.pl/portal/Members/ppieta/news/archiwum/2020
 -2021-semestr-letni/iii-termin-projekt-gk-studia-niestacjonarne
END:VEVENT
BEGIN:VTIMEZONE
TZID:Europe/Warsaw
X-LIC-LOCATION:Europe/Warsaw
BEGIN:DAYLIGHT
DTSTART;VALUE=DATE-TIME:20210328T030000
TZNAME:CEST
TZOFFSETFROM:+0100
TZOFFSETTO:+0200
END:DAYLIGHT
END:VTIMEZONE
END:VCALENDAR
