BEGIN:VCALENDAR
VERSION:2.0
PRODID:-//Plone.org//NONSGML plone.app.event//EN
X-WR-TIMEZONE:Europe/Warsaw
BEGIN:VEVENT
SUMMARY:III termin laboratorium PP2 (grupy mgra Pięty)
DTSTART;TZID=Europe/Warsaw;VALUE=DATE-TIME:20210901T143000
DTEND;TZID=Europe/Warsaw;VALUE=DATE-TIME:20210901T161500
DTSTAMP;VALUE=DATE-TIME:20260424T160740Z
UID:66ca3570ef804c69b983c76e3f5cca02@127.0.0.1:6969
ATTENDEE;CN="Grupy: 1ID14A, 1ID14B";ROLE=REQ-PARTICIPANT:Grupy: 1ID14A, 1I
 D14B
CREATED;VALUE=DATE-TIME:20210703T141528Z
DESCRIPTION:01.09.2021\, godz. 14:30\, sala 3.19D.
LAST-MODIFIED;VALUE=DATE-TIME:20211012T224923Z
LOCATION:3.19D
URL:https://achilles.tu.kielce.pl/portal/Members/ppieta/news/archiwum/2020
 -2021-semestr-letni/iii-termin-laboratorium-pp2-grupy-mgra-piety
END:VEVENT
BEGIN:VTIMEZONE
TZID:Europe/Warsaw
X-LIC-LOCATION:Europe/Warsaw
BEGIN:DAYLIGHT
DTSTART;VALUE=DATE-TIME:20210328T030000
TZNAME:CEST
TZOFFSETFROM:+0100
TZOFFSETTO:+0200
END:DAYLIGHT
END:VTIMEZONE
END:VCALENDAR
