BEGIN:VCALENDAR
VERSION:2.0
PRODID:-//Plone.org//NONSGML plone.app.event//EN
X-WR-TIMEZONE:Europe/Warsaw
BEGIN:VEVENT
SUMMARY:II termin PY1 (grupa 1TD11B) [kierunek Teleinformatyka]
DTSTART;TZID=Europe/Warsaw;VALUE=DATE-TIME:20210628T150000
DTEND;TZID=Europe/Warsaw;VALUE=DATE-TIME:20210628T170000
DTSTAMP;VALUE=DATE-TIME:20260424T070051Z
UID:e3a7cd65a23244b2b1e159394c406609@127.0.0.1:6969
ATTENDEE;CN="Grupa 1TD11B";ROLE=REQ-PARTICIPANT:Grupa 1TD11B
CREATED;VALUE=DATE-TIME:20210613T000912Z
DESCRIPTION:28.06.2021\, godz. 15:00\, sala 2.21DH.
LAST-MODIFIED;VALUE=DATE-TIME:20211012T224921Z
LOCATION:2.21DH
URL:https://achilles.tu.kielce.pl/portal/Members/ppieta/news/archiwum/2020
 -2021-semestr-letni/ii-termin-py1-grupa-1td11b-kierunek-teleinformatyka
END:VEVENT
BEGIN:VTIMEZONE
TZID:Europe/Warsaw
X-LIC-LOCATION:Europe/Warsaw
BEGIN:DAYLIGHT
DTSTART;VALUE=DATE-TIME:20210328T030000
TZNAME:CEST
TZOFFSETFROM:+0100
TZOFFSETTO:+0200
END:DAYLIGHT
END:VTIMEZONE
END:VCALENDAR
