BEGIN:VCALENDAR
VERSION:2.0
PRODID:-//Plone.org//NONSGML plone.app.event//EN
X-WR-TIMEZONE:Europe/Warsaw
BEGIN:VEVENT
SUMMARY:II termin laboratorium WAPG
DTSTART;TZID=Europe/Warsaw;VALUE=DATE-TIME:20210715T100000
DTEND;TZID=Europe/Warsaw;VALUE=DATE-TIME:20210715T110000
DTSTAMP;VALUE=DATE-TIME:20260424T070056Z
UID:9132470a26984e5a979dab91bc27f78d@127.0.0.1:6969
ATTENDEE;CN="Grupa 1ID23A";ROLE=REQ-PARTICIPANT:Grupa 1ID23A
CREATED;VALUE=DATE-TIME:20210703T140104Z
DESCRIPTION:15.07.2021\, godz. 10:00\, sala 3.19D.
LAST-MODIFIED;VALUE=DATE-TIME:20211012T224922Z
LOCATION:3.19D
URL:https://achilles.tu.kielce.pl/portal/Members/ppieta/news/archiwum/2020
 -2021-semestr-letni/ii-termin-laboratorium-wapg
END:VEVENT
BEGIN:VTIMEZONE
TZID:Europe/Warsaw
X-LIC-LOCATION:Europe/Warsaw
BEGIN:DAYLIGHT
DTSTART;VALUE=DATE-TIME:20210328T030000
TZNAME:CEST
TZOFFSETFROM:+0100
TZOFFSETTO:+0200
END:DAYLIGHT
END:VTIMEZONE
END:VCALENDAR
