BEGIN:VCALENDAR
VERSION:2.0
PRODID:-//Plone.org//NONSGML plone.app.event//EN
X-WR-TIMEZONE:Europe/Warsaw
BEGIN:VEVENT
SUMMARY:II termin laboratorium IP [studia niestacjonarne]
DTSTART;TZID=Europe/Warsaw;VALUE=DATE-TIME:20210626T100000
DTEND;TZID=Europe/Warsaw;VALUE=DATE-TIME:20210626T110000
DTSTAMP;VALUE=DATE-TIME:20260424T015215Z
UID:8ab84b6a44ed4f938c9d8b3c08714c06@127.0.0.1:6969
ATTENDEE;CN="Grupy: 3IZ11A, 3IZ11B";ROLE=REQ-PARTICIPANT:Grupy: 3IZ11A, 3I
 Z11B
CREATED;VALUE=DATE-TIME:20210612T205632Z
DESCRIPTION:26.06.2021\, godz. 10:00\, sala 3.12D.
LAST-MODIFIED;VALUE=DATE-TIME:20211012T224921Z
LOCATION:3.12D
URL:https://achilles.tu.kielce.pl/portal/Members/ppieta/news/archiwum/2020
 -2021-semestr-letni/ii-termin-laboratorium-ip-studia-niestacjonarne
END:VEVENT
BEGIN:VTIMEZONE
TZID:Europe/Warsaw
X-LIC-LOCATION:Europe/Warsaw
BEGIN:DAYLIGHT
DTSTART;VALUE=DATE-TIME:20210328T030000
TZNAME:CEST
TZOFFSETFROM:+0100
TZOFFSETTO:+0200
END:DAYLIGHT
END:VTIMEZONE
END:VCALENDAR
