BEGIN:VCALENDAR
VERSION:2.0
PRODID:-//Plone.org//NONSGML plone.app.event//EN
X-WR-TIMEZONE:Europe/Warsaw
BEGIN:VEVENT
SUMMARY:Zaliczenie przedmiotu "Programowanie obiektowe (Java)" - II termin
DTSTART;TZID=Europe/Warsaw;VALUE=DATE-TIME:20210701T080000
DTEND;TZID=Europe/Warsaw;VALUE=DATE-TIME:20210701T100000
DTSTAMP;VALUE=DATE-TIME:20260424T171145Z
UID:eb4d3c3eaf904967bb71911d8a927e2a@127.0.0.1:6969
CREATED;VALUE=DATE-TIME:20210623T202741Z
LAST-MODIFIED;VALUE=DATE-TIME:20210624T154232Z
LOCATION:2.28DH
URL:https://achilles.tu.kielce.pl/portal/Members/d7265ac5bd6941d784e09c6b6
 0a792f8/zaliczenie-przedmiotu-programowanie-obiektowe-java-ii-termin-1
END:VEVENT
BEGIN:VTIMEZONE
TZID:Europe/Warsaw
X-LIC-LOCATION:Europe/Warsaw
BEGIN:DAYLIGHT
DTSTART;VALUE=DATE-TIME:20210328T030000
TZNAME:CEST
TZOFFSETFROM:+0100
TZOFFSETTO:+0200
END:DAYLIGHT
END:VTIMEZONE
END:VCALENDAR
