BEGIN:VCALENDAR
VERSION:2.0
PRODID:-//Plone.org//NONSGML plone.app.event//EN
X-WR-TIMEZONE:Europe/Warsaw
BEGIN:VEVENT
SUMMARY:Technologie obiektowe - studia dzienne - 3.12D
DTSTART;TZID=Europe/Warsaw;VALUE=DATE-TIME:20250702T080000
DTEND;TZID=Europe/Warsaw;VALUE=DATE-TIME:20250702T100000
DTSTAMP;VALUE=DATE-TIME:20260424T171133Z
UID:841476a6b23a48c49f8b2bfa080de613@127.0.0.1:6969
CREATED;VALUE=DATE-TIME:20250530T064740Z
LAST-MODIFIED;VALUE=DATE-TIME:20250530T064832Z
LOCATION:3.12D
URL:https://achilles.tu.kielce.pl/portal/Members/d7265ac5bd6941d784e09c6b6
 0a792f8/technologie-obiektowe-studia-dzienne-3-12d-8-00
END:VEVENT
BEGIN:VTIMEZONE
TZID:Europe/Warsaw
X-LIC-LOCATION:Europe/Warsaw
BEGIN:DAYLIGHT
DTSTART;VALUE=DATE-TIME:20250330T030000
TZNAME:CEST
TZOFFSETFROM:+0100
TZOFFSETTO:+0200
END:DAYLIGHT
END:VTIMEZONE
END:VCALENDAR
