BEGIN:VCALENDAR
VERSION:2.0
PRODID:-//Plone.org//NONSGML plone.app.event//EN
X-WR-TIMEZONE:Europe/Warsaw
BEGIN:VEVENT
SUMMARY:Egzamin PSR 3.19D
DTSTART;TZID=Europe/Warsaw;VALUE=DATE-TIME:20240203T100000
DTEND;TZID=Europe/Warsaw;VALUE=DATE-TIME:20240203T120000
DTSTAMP;VALUE=DATE-TIME:20260423T161011Z
UID:e32f9bcc7508472c942d843156d45915@127.0.0.1:6969
CREATED;VALUE=DATE-TIME:20240122T233419Z
LAST-MODIFIED;VALUE=DATE-TIME:20240124T073048Z
LOCATION:3.19D
URL:https://achilles.tu.kielce.pl/portal/Members/d7265ac5bd6941d784e09c6b6
 0a792f8/egzamin-psr-3.19d
END:VEVENT
BEGIN:VTIMEZONE
TZID:Europe/Warsaw
X-LIC-LOCATION:Europe/Warsaw
BEGIN:STANDARD
DTSTART;VALUE=DATE-TIME:20231029T020000
TZNAME:CET
TZOFFSETFROM:+0200
TZOFFSETTO:+0100
END:STANDARD
END:VTIMEZONE
END:VCALENDAR
