BEGIN:VCALENDAR
VERSION:2.0
PRODID:-//Plone.org//NONSGML plone.app.event//EN
X-WR-TIMEZONE:Europe/Warsaw
BEGIN:VEVENT
SUMMARY:Bazy danych 1 - Egzamin
DTSTART;TZID=Europe/Warsaw;VALUE=DATE-TIME:20200214T080000
DTEND;TZID=Europe/Warsaw;VALUE=DATE-TIME:20200214T120000
DTSTAMP;VALUE=DATE-TIME:20260420T090459Z
UID:a9c91c6c6edf45b58895e05c48426f78@127.0.0.1:6969
CREATED;VALUE=DATE-TIME:20200131T072814Z
LAST-MODIFIED;VALUE=DATE-TIME:20200131T073025Z
LOCATION:Aula Główna 3
URL:https://achilles.tu.kielce.pl/portal/Members/d7265ac5bd6941d784e09c6b6
 0a792f8/bazy-danych-1-egzamin-1
END:VEVENT
BEGIN:VTIMEZONE
TZID:Europe/Warsaw
X-LIC-LOCATION:Europe/Warsaw
BEGIN:STANDARD
DTSTART;VALUE=DATE-TIME:20191027T020000
TZNAME:CET
TZOFFSETFROM:+0200
TZOFFSETTO:+0100
END:STANDARD
END:VTIMEZONE
END:VCALENDAR
