BEGIN:VCALENDAR
VERSION:2.0
PRODID:-//Plone.org//NONSGML plone.app.event//EN
X-WR-TIMEZONE:Europe/Warsaw
BEGIN:VEVENT
SUMMARY:Bazy danych 1 - 3.06D
DTSTART;TZID=Europe/Warsaw;VALUE=DATE-TIME:20220218T100000
DTEND;TZID=Europe/Warsaw;VALUE=DATE-TIME:20220218T120000
DTSTAMP;VALUE=DATE-TIME:20260420T122123Z
UID:e3657d7fcb50421790cc04da5c3dc461@127.0.0.1:6969
CREATED;VALUE=DATE-TIME:20220215T194641Z
LAST-MODIFIED;VALUE=DATE-TIME:20220215T200342Z
URL:https://achilles.tu.kielce.pl/portal/Members/d7265ac5bd6941d784e09c6b6
 0a792f8/bazy-danych-1-3
END:VEVENT
BEGIN:VTIMEZONE
TZID:Europe/Warsaw
X-LIC-LOCATION:Europe/Warsaw
BEGIN:STANDARD
DTSTART;VALUE=DATE-TIME:20211031T020000
TZNAME:CET
TZOFFSETFROM:+0200
TZOFFSETTO:+0100
END:STANDARD
END:VTIMEZONE
END:VCALENDAR
