BEGIN:VCALENDAR
VERSION:2.0
PRODID:-//Plone.org//NONSGML plone.app.event//EN
X-WR-TIMEZONE:Europe/Warsaw
BEGIN:VEVENT
SUMMARY:Bazy danych 1 - 3.10
DTSTART;TZID=Europe/Warsaw;VALUE=DATE-TIME:20220216T080000
DTEND;TZID=Europe/Warsaw;VALUE=DATE-TIME:20220216T140000
DTSTAMP;VALUE=DATE-TIME:20260421T215500Z
UID:577c0f3216e24e9298c515389981fccd@127.0.0.1:6969
CREATED;VALUE=DATE-TIME:20220215T200627Z
LAST-MODIFIED;VALUE=DATE-TIME:20220215T200631Z
URL:https://achilles.tu.kielce.pl/portal/Members/d7265ac5bd6941d784e09c6b6
 0a792f8/bazy-danych-1-3.10
END:VEVENT
BEGIN:VTIMEZONE
TZID:Europe/Warsaw
X-LIC-LOCATION:Europe/Warsaw
BEGIN:STANDARD
DTSTART;VALUE=DATE-TIME:20211031T020000
TZNAME:CET
TZOFFSETFROM:+0200
TZOFFSETTO:+0100
END:STANDARD
END:VTIMEZONE
END:VCALENDAR
