BEGIN:VCALENDAR
VERSION:2.0
PRODID:-//Plone.org//NONSGML plone.app.event//EN
X-WR-TIMEZONE:Europe/Warsaw
BEGIN:VEVENT
SUMMARY:Exam - Computer Architecture 2
DTSTART;TZID=Europe/Warsaw;VALUE=DATE-TIME:20250905T130000
DTEND;TZID=Europe/Warsaw;VALUE=DATE-TIME:20250905T140000
DTSTAMP;VALUE=DATE-TIME:20260422T133253Z
UID:4ce35588594f443aac54b76982925806@127.0.0.1:6969
CREATED;VALUE=DATE-TIME:20210208T134407Z
DESCRIPTION:Exam will have a form of test.
LAST-MODIFIED;VALUE=DATE-TIME:20250901T115520Z
LOCATION:1.10D
URL:https://achilles.tu.kielce.pl/portal/Members/d240aef6944e4dcaa8cc84c0d
 9cc7c6b/ca2/exam-computer-architecture-2
END:VEVENT
BEGIN:VTIMEZONE
TZID:Europe/Warsaw
X-LIC-LOCATION:Europe/Warsaw
BEGIN:DAYLIGHT
DTSTART;VALUE=DATE-TIME:20250330T030000
TZNAME:CEST
TZOFFSETFROM:+0100
TZOFFSETTO:+0200
END:DAYLIGHT
END:VTIMEZONE
END:VCALENDAR
