BEGIN:VCALENDAR
VERSION:2.0
PRODID:-//Plone.org//NONSGML plone.app.event//EN
X-WR-TIMEZONE:Europe/Warsaw
BEGIN:VEVENT
SUMMARY:Python Programming 2 - exam
DTSTART;TZID=Europe/Warsaw;VALUE=DATE-TIME:20230627T120000
DTEND;TZID=Europe/Warsaw;VALUE=DATE-TIME:20230627T133000
DTSTAMP;VALUE=DATE-TIME:20260420T082051Z
UID:c4688e9b56fe41269f3f88d40b3bf44e@127.0.0.1:6969
CREATED;VALUE=DATE-TIME:20230616T203405Z
DESCRIPTION:27.06.2023\, 12.00 room 3.12D
LAST-MODIFIED;VALUE=DATE-TIME:20230616T203417Z
URL:https://achilles.tu.kielce.pl/portal/Members/ca0a302a464f4801addd04d3c
 710b936/python-programming-2-exam
END:VEVENT
BEGIN:VTIMEZONE
TZID:Europe/Warsaw
X-LIC-LOCATION:Europe/Warsaw
BEGIN:DAYLIGHT
DTSTART;VALUE=DATE-TIME:20230326T030000
TZNAME:CEST
TZOFFSETFROM:+0100
TZOFFSETTO:+0200
END:DAYLIGHT
END:VTIMEZONE
END:VCALENDAR
