BEGIN:VCALENDAR
VERSION:2.0
PRODID:-//Plone.org//NONSGML plone.app.event//EN
X-WR-TIMEZONE:Europe/Warsaw
BEGIN:VEVENT
SUMMARY:Obrony - rezerwacja sali
DTSTART;TZID=Europe/Warsaw;VALUE=DATE-TIME:20220208T090000
DTEND;TZID=Europe/Warsaw;VALUE=DATE-TIME:20220208T120000
DTSTAMP;VALUE=DATE-TIME:20260421T153644Z
UID:8a03e0af4ce341afa3332353fffb00dc@127.0.0.1:6969
CREATED;VALUE=DATE-TIME:20220203T114314Z
LAST-MODIFIED;VALUE=DATE-TIME:20220203T114323Z
LOCATION:3.26D
URL:https://achilles.tu.kielce.pl/portal/Members/admin/obrony-rezerwacja-s
 ali
END:VEVENT
BEGIN:VTIMEZONE
TZID:Europe/Warsaw
X-LIC-LOCATION:Europe/Warsaw
BEGIN:STANDARD
DTSTART;VALUE=DATE-TIME:20211031T020000
TZNAME:CET
TZOFFSETFROM:+0200
TZOFFSETTO:+0100
END:STANDARD
END:VTIMEZONE
END:VCALENDAR
