BEGIN:VCALENDAR
VERSION:2.0
PRODID:-//Plone.org//NONSGML plone.app.event//EN
X-WR-TIMEZONE:Europe/Warsaw
BEGIN:VEVENT
SUMMARY:LC: AaDS Exam 3.12D ("0" term)
DTSTART;TZID=Europe/Warsaw;VALUE=DATE-TIME:20240618T180000
DTEND;TZID=Europe/Warsaw;VALUE=DATE-TIME:20240618T200000
DTSTAMP;VALUE=DATE-TIME:20260424T171139Z
UID:949c6c120e2f44e6bc263fffa428c8db@127.0.0.1:6969
CREATED;VALUE=DATE-TIME:20220613T110446Z
LAST-MODIFIED;VALUE=DATE-TIME:20240611T162423Z
LOCATION:3.12D
URL:https://achilles.tu.kielce.pl/portal/Members/9487853b374349e88094142d8
 428c1f9/copy2_of_2018-2019-semestr-letni/algorithms-and-data-structures/lc
 -aads-exam
END:VEVENT
BEGIN:VTIMEZONE
TZID:Europe/Warsaw
X-LIC-LOCATION:Europe/Warsaw
BEGIN:DAYLIGHT
DTSTART;VALUE=DATE-TIME:20240331T030000
TZNAME:CEST
TZOFFSETFROM:+0100
TZOFFSETTO:+0200
END:DAYLIGHT
END:VTIMEZONE
END:VCALENDAR
