BEGIN:VCALENDAR
VERSION:2.0
PRODID:-//Plone.org//NONSGML plone.app.event//EN
X-WR-TIMEZONE:Europe/Warsaw
BEGIN:VEVENT
SUMMARY:Zaliczenie praktyk studenckich u dra Wieczorka
DTSTART;TZID=Europe/Warsaw;VALUE=DATE-TIME:20200909T000000
DTEND;TZID=Europe/Warsaw;VALUE=DATE-TIME:20200914T090000
DTSTAMP;VALUE=DATE-TIME:20260425T180628Z
UID:d4ddffbcde2d403380264f79df9efc38@127.0.0.1:6969
CREATED;VALUE=DATE-TIME:20200909T091704Z
LAST-MODIFIED;VALUE=DATE-TIME:20200909T091726Z
URL:https://achilles.tu.kielce.pl/portal/Members/93132ae5a62b4dde9149b5af0
 f64ee20/terminy-kalendarza/zaliczenie-praktyk-studenckich-u-dra-wieczorka
END:VEVENT
BEGIN:VTIMEZONE
TZID:Europe/Warsaw
X-LIC-LOCATION:Europe/Warsaw
BEGIN:DAYLIGHT
DTSTART;VALUE=DATE-TIME:20200329T030000
TZNAME:CEST
TZOFFSETFROM:+0100
TZOFFSETTO:+0200
END:DAYLIGHT
END:VTIMEZONE
END:VCALENDAR
