BEGIN:VCALENDAR
VERSION:2.0
PRODID:-//Plone.org//NONSGML plone.app.event//EN
X-WR-TIMEZONE:Europe/Warsaw
BEGIN:VEVENT
SUMMARY:II termin zaliczenia laboratorium ASK1
DTSTART;TZID=Europe/Warsaw;VALUE=DATE-TIME:20210629T160000
DTEND;TZID=Europe/Warsaw;VALUE=DATE-TIME:20210629T164500
DTSTAMP;VALUE=DATE-TIME:20260424T070057Z
UID:546aa582aeea42e1b4ba126d60b9dfca@127.0.0.1:6969
CREATED;VALUE=DATE-TIME:20210623T072051Z
LAST-MODIFIED;VALUE=DATE-TIME:20210623T073539Z
LOCATION:3.06 D
URL:https://achilles.tu.kielce.pl/portal/Members/93132ae5a62b4dde9149b5af0
 f64ee20/terminy-kalendarza/ii-termin-zaliczenia-laboratorium-ask1
END:VEVENT
BEGIN:VTIMEZONE
TZID:Europe/Warsaw
X-LIC-LOCATION:Europe/Warsaw
BEGIN:DAYLIGHT
DTSTART;VALUE=DATE-TIME:20210328T030000
TZNAME:CEST
TZOFFSETFROM:+0100
TZOFFSETTO:+0200
END:DAYLIGHT
END:VTIMEZONE
END:VCALENDAR
