BEGIN:VCALENDAR
VERSION:2.0
PRODID:-//Plone.org//NONSGML plone.app.event//EN
X-WR-TIMEZONE:Europe/Warsaw
BEGIN:VEVENT
SUMMARY:Fundamentals of Programming 2 Final Test (first term)
DTSTART;TZID=Europe/Warsaw;VALUE=DATE-TIME:20240618T100000
DTEND;TZID=Europe/Warsaw;VALUE=DATE-TIME:20240618T113000
DTSTAMP;VALUE=DATE-TIME:20260422T005809Z
UID:5fd2c455805848ecb50fd48abb09b188@127.0.0.1:6969
ATTENDEE;CN="First year students of Computer Science (the English group)."
 ;ROLE=REQ-PARTICIPANT:First year students of Computer Science (the English
  group).
CREATED;VALUE=DATE-TIME:20240604T092210Z
DESCRIPTION:The Fundamentals of Programming 2 lecture final test (first te
 rm) for the first year students of Computer Science (the English group).
LAST-MODIFIED;VALUE=DATE-TIME:20240926T184010Z
LOCATION:1.14D
URL:https://achilles.tu.kielce.pl/portal/Members/84df831b59534bdc88bef09b1
 5e73c99/archive/semestr-ii-2023-2024/terminy-zaliczen/fundamentals-of-prog
 ramming-2-final-test-first-term
END:VEVENT
BEGIN:VTIMEZONE
TZID:Europe/Warsaw
X-LIC-LOCATION:Europe/Warsaw
BEGIN:DAYLIGHT
DTSTART;VALUE=DATE-TIME:20240331T030000
TZNAME:CEST
TZOFFSETFROM:+0100
TZOFFSETTO:+0200
END:DAYLIGHT
END:VTIMEZONE
END:VCALENDAR
