BEGIN:VCALENDAR
VERSION:2.0
PRODID:-//Plone.org//NONSGML plone.app.event//EN
X-WR-TIMEZONE:Europe/Warsaw
BEGIN:VEVENT
SUMMARY:Egzamin z Inżynierii Programowania (I termin)
DTSTART;TZID=Europe/Warsaw;VALUE=DATE-TIME:20220709T120000
DTEND;TZID=Europe/Warsaw;VALUE=DATE-TIME:20220709T143000
DTSTAMP;VALUE=DATE-TIME:20260425T165243Z
UID:8cd1ab75addf4a5aa0ae83ca89048cf5@127.0.0.1:6969
ATTENDEE;CN="Studenci trzeciego roku Informatyki, studia niestacjonarne";R
 OLE=REQ-PARTICIPANT:Studenci trzeciego roku Informatyki, studia niestacjon
 arne
CREATED;VALUE=DATE-TIME:20220528T194955Z
DESCRIPTION:Egzamin z Inżynierii Programowania (I termin) dla studentów 
 trzeciego roku kierunku Informatyka\, studia niestacjonarne.
LAST-MODIFIED;VALUE=DATE-TIME:20221001T124022Z
LOCATION:3.12 D
URL:https://achilles.tu.kielce.pl/portal/Members/84df831b59534bdc88bef09b1
 5e73c99/archive/semestr-ii-2021-2022/terminy-zaliczen/egzamin-z-inzynierii
 -programowania-i-termin
END:VEVENT
BEGIN:VTIMEZONE
TZID:Europe/Warsaw
X-LIC-LOCATION:Europe/Warsaw
BEGIN:DAYLIGHT
DTSTART;VALUE=DATE-TIME:20220327T030000
TZNAME:CEST
TZOFFSETFROM:+0100
TZOFFSETTO:+0200
END:DAYLIGHT
END:VTIMEZONE
END:VCALENDAR
