BEGIN:VCALENDAR
VERSION:2.0
PRODID:-//Plone.org//NONSGML plone.app.event//EN
X-WR-TIMEZONE:Europe/Warsaw
BEGIN:VEVENT
SUMMARY:Egzamin z Inżynierii Programowania (II termin)
DTSTART;TZID=Europe/Warsaw;VALUE=DATE-TIME:20220903T100000
DTEND;TZID=Europe/Warsaw;VALUE=DATE-TIME:20220903T123000
DTSTAMP;VALUE=DATE-TIME:20260420T202519Z
UID:31af6415d46943edb149e32cf467b291@127.0.0.1:6969
ATTENDEE;CN="Studenci trzeciego roku Informatyki, studia niestacjonarne";R
 OLE=REQ-PARTICIPANT:Studenci trzeciego roku Informatyki, studia niestacjon
 arne
CREATED;VALUE=DATE-TIME:20220528T194955Z
DESCRIPTION:Egzamin z Inżynierii Programowania (II termin) dla studentów
  trzeciego roku kierunku Informatyka\, studia niestacjonarne.
LAST-MODIFIED;VALUE=DATE-TIME:20221001T124022Z
LOCATION:3.12 D
URL:https://achilles.tu.kielce.pl/portal/Members/84df831b59534bdc88bef09b1
 5e73c99/archive/semestr-ii-2021-2022/terminy-zaliczen/copy_of_egzamin-z-in
 zynierii-programowania-i-termin
END:VEVENT
BEGIN:VTIMEZONE
TZID:Europe/Warsaw
X-LIC-LOCATION:Europe/Warsaw
BEGIN:DAYLIGHT
DTSTART;VALUE=DATE-TIME:20220327T030000
TZNAME:CEST
TZOFFSETFROM:+0100
TZOFFSETTO:+0200
END:DAYLIGHT
END:VTIMEZONE
END:VCALENDAR
