BEGIN:VCALENDAR
VERSION:2.0
PRODID:-//Plone.org//NONSGML plone.app.event//EN
X-WR-TIMEZONE:Europe/Warsaw
BEGIN:VEVENT
SUMMARY:Operating Systems 2 Final Exam (1st term)
DTSTART;TZID=Europe/Warsaw;VALUE=DATE-TIME:20200622T120000
DTEND;TZID=Europe/Warsaw;VALUE=DATE-TIME:20200622T140000
DTSTAMP;VALUE=DATE-TIME:20260423T161011Z
UID:f584c48c2fb84010b75a7a251fe481a0@127.0.0.1:6969
ATTENDEE;CN="Foreign students from the English-speaking group.";ROLE=REQ-P
 ARTICIPANT:Foreign students from the English-speaking group.
CREATED;VALUE=DATE-TIME:20200615T192010Z
DESCRIPTION:Operating Systems 2 Final Exam (1st term) for foreign students
  from the English-speaking group.
LAST-MODIFIED;VALUE=DATE-TIME:20200615T210735Z
LOCATION:Moodle Platform
URL:https://achilles.tu.kielce.pl/portal/Members/84df831b59534bdc88bef09b1
 5e73c99/archive/semestr-ii-2019-2020/terminy-zaliczen/operating-systems-2-
 final-exam
END:VEVENT
BEGIN:VTIMEZONE
TZID:Europe/Warsaw
X-LIC-LOCATION:Europe/Warsaw
BEGIN:DAYLIGHT
DTSTART;VALUE=DATE-TIME:20200329T030000
TZNAME:CEST
TZOFFSETFROM:+0100
TZOFFSETTO:+0200
END:DAYLIGHT
END:VTIMEZONE
END:VCALENDAR
