BEGIN:VCALENDAR
VERSION:2.0
PRODID:-//Plone.org//NONSGML plone.app.event//EN
X-WR-TIMEZONE:Europe/Warsaw
BEGIN:VEVENT
SUMMARY:The Software Engineering 1 Exam
DTSTART;TZID=Europe/Warsaw;VALUE=DATE-TIME:20260209T100000
DTEND;TZID=Europe/Warsaw;VALUE=DATE-TIME:20260209T133000
DTSTAMP;VALUE=DATE-TIME:20260422T112304Z
UID:2a01118f108f47289d7c435f40d6a432@127.0.0.1:6969
ATTENDEE;CN="The students of the third year of Computer Science.";ROLE=REQ
 -PARTICIPANT:The students of the third year of Computer Science.
CREATED;VALUE=DATE-TIME:20260112T203824Z
DESCRIPTION:The Software Engineering 1 exam for the students of the third 
 year of Computer Science.
LAST-MODIFIED;VALUE=DATE-TIME:20260228T143512Z
LOCATION:3.12 D
URL:https://achilles.tu.kielce.pl/portal/Members/84df831b59534bdc88bef09b1
 5e73c99/archive/semestr-i-2025-2026/terminy-zaliczen/the-software-engineer
 ing-1-exam
END:VEVENT
BEGIN:VTIMEZONE
TZID:Europe/Warsaw
X-LIC-LOCATION:Europe/Warsaw
BEGIN:STANDARD
DTSTART;VALUE=DATE-TIME:20251026T020000
TZNAME:CET
TZOFFSETFROM:+0200
TZOFFSETTO:+0100
END:STANDARD
END:VTIMEZONE
END:VCALENDAR
