BEGIN:VCALENDAR
VERSION:2.0
PRODID:-//Plone.org//NONSGML plone.app.event//EN
X-WR-TIMEZONE:Europe/Warsaw
BEGIN:VEVENT
SUMMARY:Kolokwium z Systemów operacyjnych 1 (I termin)
DTSTART;TZID=Europe/Warsaw;VALUE=DATE-TIME:20260128T120000
DTEND;TZID=Europe/Warsaw;VALUE=DATE-TIME:20260128T133000
DTSTAMP;VALUE=DATE-TIME:20260421T203533Z
UID:c11fc506ab3f4c43ba6ef7dd69a47896@127.0.0.1:6969
ATTENDEE;CN="Studenci drugiego roku kierunku Informatyka, studia stacjonar
 ne.";ROLE=REQ-PARTICIPANT:Studenci drugiego roku kierunku Informatyka, stu
 dia stacjonarne.
CREATED;VALUE=DATE-TIME:20260121T210029Z
DESCRIPTION:Pierwszy termin kolokwium z Systemów operacyjnych 1 dla stude
 ntów drugiego roku kierunku Informatyka\, studia stacjonarne.
LAST-MODIFIED;VALUE=DATE-TIME:20260228T143512Z
LOCATION:Aula A1
URL:https://achilles.tu.kielce.pl/portal/Members/84df831b59534bdc88bef09b1
 5e73c99/archive/semestr-i-2025-2026/terminy-zaliczen/kolokwium-z-systemow-
 operacyjnych-1-i-termin
END:VEVENT
BEGIN:VTIMEZONE
TZID:Europe/Warsaw
X-LIC-LOCATION:Europe/Warsaw
BEGIN:STANDARD
DTSTART;VALUE=DATE-TIME:20251026T020000
TZNAME:CET
TZOFFSETFROM:+0200
TZOFFSETTO:+0100
END:STANDARD
END:VTIMEZONE
END:VCALENDAR
