BEGIN:VCALENDAR
VERSION:2.0
PRODID:-//Plone.org//NONSGML plone.app.event//EN
X-WR-TIMEZONE:Europe/Warsaw
BEGIN:VEVENT
SUMMARY:Second Retake of Fundamentals of Programming 1 Final Test
DTSTART;TZID=Europe/Warsaw;VALUE=DATE-TIME:20260220T120000
DTEND;TZID=Europe/Warsaw;VALUE=DATE-TIME:20260220T133000
DTSTAMP;VALUE=DATE-TIME:20260421T142615Z
UID:5ff6aa3f19644ec48f09b55f15988f87@127.0.0.1:6969
ATTENDEE;CN="First year students of Computer Science.";ROLE=REQ-PARTICIPAN
 T:First year students of Computer Science.
CREATED;VALUE=DATE-TIME:20260122T224743Z
DESCRIPTION:Second retake of Fundamentals of Programming 1 final test for 
 first year students of Computer Science.
LAST-MODIFIED;VALUE=DATE-TIME:20260228T143513Z
LOCATION:3.12 D
URL:https://achilles.tu.kielce.pl/portal/Members/84df831b59534bdc88bef09b1
 5e73c99/archive/semestr-i-2025-2026/terminy-zaliczen/fundamentals-of-progr
 amming-1-final-test
END:VEVENT
BEGIN:VTIMEZONE
TZID:Europe/Warsaw
X-LIC-LOCATION:Europe/Warsaw
BEGIN:STANDARD
DTSTART;VALUE=DATE-TIME:20251026T020000
TZNAME:CET
TZOFFSETFROM:+0200
TZOFFSETTO:+0100
END:STANDARD
END:VTIMEZONE
END:VCALENDAR
