BEGIN:VCALENDAR
VERSION:2.0
PRODID:-//Plone.org//NONSGML plone.app.event//EN
X-WR-TIMEZONE:Europe/Warsaw
BEGIN:VEVENT
SUMMARY:Egzamin z Inżynierii oprogramowania 1 (studia niestacjonarne)
DTSTART;TZID=Europe/Warsaw;VALUE=DATE-TIME:20260207T100000
DTEND;TZID=Europe/Warsaw;VALUE=DATE-TIME:20260207T143000
DTSTAMP;VALUE=DATE-TIME:20260421T071306Z
UID:393b2333c5fe49d4802ca2bc3dbae9b7@127.0.0.1:6969
ATTENDEE;CN="Studenci trzeciego roku Informatyki, studia niestacjonarne.";
 ROLE=REQ-PARTICIPANT:Studenci trzeciego roku Informatyki, studia niestacjo
 narne.
CREATED;VALUE=DATE-TIME:20251213T124659Z
DESCRIPTION:Egzamin z Inżynierii oprogramowania 1 dla studentów trzecieg
 o roku kierunku Informatyka\, studia niestacjonarne.
LAST-MODIFIED;VALUE=DATE-TIME:20260228T143511Z
LOCATION:3.12 D
URL:https://achilles.tu.kielce.pl/portal/Members/84df831b59534bdc88bef09b1
 5e73c99/archive/semestr-i-2025-2026/terminy-zaliczen/egzamin-z-inzynierii-
 oprogramowania-1-studia-niestacjonarne
END:VEVENT
BEGIN:VTIMEZONE
TZID:Europe/Warsaw
X-LIC-LOCATION:Europe/Warsaw
BEGIN:STANDARD
DTSTART;VALUE=DATE-TIME:20251026T020000
TZNAME:CET
TZOFFSETFROM:+0200
TZOFFSETTO:+0100
END:STANDARD
END:VTIMEZONE
END:VCALENDAR
