BEGIN:VCALENDAR
VERSION:2.0
PRODID:-//Plone.org//NONSGML plone.app.event//EN
X-WR-TIMEZONE:Europe/Warsaw
BEGIN:VEVENT
SUMMARY:The Software Engineering 1 Exam (The Retake)
DTSTART;TZID=Europe/Warsaw;VALUE=DATE-TIME:20260217T100000
DTEND;TZID=Europe/Warsaw;VALUE=DATE-TIME:20260217T133000
DTSTAMP;VALUE=DATE-TIME:20260421T142615Z
UID:720152133e5a4bd1b45affdf90221c57@127.0.0.1:6969
ATTENDEE;CN="The third-year Computer Science students.";ROLE=REQ-PARTICIPA
 NT:The third-year Computer Science students.
CREATED;VALUE=DATE-TIME:20260112T203824Z
DESCRIPTION:The Software Engineering 1 exam (the retake) for third-year Co
 mputer Science students..
LAST-MODIFIED;VALUE=DATE-TIME:20260228T143512Z
LOCATION:3.12 D
URL:https://achilles.tu.kielce.pl/portal/Members/84df831b59534bdc88bef09b1
 5e73c99/archive/semestr-i-2025-2026/terminy-zaliczen/copy_of_the-software-
 engineering-1-exam
END:VEVENT
BEGIN:VTIMEZONE
TZID:Europe/Warsaw
X-LIC-LOCATION:Europe/Warsaw
BEGIN:STANDARD
DTSTART;VALUE=DATE-TIME:20251026T020000
TZNAME:CET
TZOFFSETFROM:+0200
TZOFFSETTO:+0100
END:STANDARD
END:VTIMEZONE
END:VCALENDAR
