BEGIN:VCALENDAR
VERSION:2.0
PRODID:-//Plone.org//NONSGML plone.app.event//EN
X-WR-TIMEZONE:Europe/Warsaw
BEGIN:VEVENT
SUMMARY:Egzamin poprawkowy z Programowania defensywnego
DTSTART;TZID=Europe/Warsaw;VALUE=DATE-TIME:20260221T150000
DTEND;TZID=Europe/Warsaw;VALUE=DATE-TIME:20260221T163000
DTSTAMP;VALUE=DATE-TIME:20260421T221143Z
UID:63f2931782654d20a73ed7ebbb7d8434@127.0.0.1:6969
ATTENDEE;CN="Studenci pierwszego roku drugiego stopnia Informatyki na stud
 iach niestacjonarnych.";ROLE=REQ-PARTICIPANT:Studenci pierwszego roku drug
 iego stopnia Informatyki na studiach niestacjonarnych.
CREATED;VALUE=DATE-TIME:20260109T213105Z
DESCRIPTION:Egzamin z programowania defensywnego dla studentów pierwszego
  roku drugiego stopnia Informatyki na studiach niestacjonarnych.
LAST-MODIFIED;VALUE=DATE-TIME:20260228T143512Z
LOCATION:1.14 D
URL:https://achilles.tu.kielce.pl/portal/Members/84df831b59534bdc88bef09b1
 5e73c99/archive/semestr-i-2025-2026/terminy-zaliczen/copy_of_egzamin-z-pro
 gramownaia-defensywnego
END:VEVENT
BEGIN:VTIMEZONE
TZID:Europe/Warsaw
X-LIC-LOCATION:Europe/Warsaw
BEGIN:STANDARD
DTSTART;VALUE=DATE-TIME:20251026T020000
TZNAME:CET
TZOFFSETFROM:+0200
TZOFFSETTO:+0100
END:STANDARD
END:VTIMEZONE
END:VCALENDAR
