BEGIN:VCALENDAR
VERSION:2.0
PRODID:-//Plone.org//NONSGML plone.app.event//EN
X-WR-TIMEZONE:Europe/Warsaw
BEGIN:VEVENT
SUMMARY:Poprawkowy egzamin z Inżynierii oprogramowania 1 (studia stacjona
 rne)
DTSTART;TZID=Europe/Warsaw;VALUE=DATE-TIME:20260220T100000
DTEND;TZID=Europe/Warsaw;VALUE=DATE-TIME:20260220T180000
DTSTAMP;VALUE=DATE-TIME:20260421T173315Z
UID:6be419d8b9d54e50a23e8c4c995fcf1f@127.0.0.1:6969
ATTENDEE;CN="Studenci trzeciego roku kierunku Informatyka, studia stacjona
 rne.";ROLE=REQ-PARTICIPANT:Studenci trzeciego roku kierunku Informatyka, s
 tudia stacjonarne.
CREATED;VALUE=DATE-TIME:20251219T161808Z
DESCRIPTION:Studenci trzeciego roku kierunku Informatyka\, studia stacjona
 rne.
LAST-MODIFIED;VALUE=DATE-TIME:20260228T143511Z
LOCATION:3.12 D
URL:https://achilles.tu.kielce.pl/portal/Members/84df831b59534bdc88bef09b1
 5e73c99/archive/semestr-i-2025-2026/terminy-zaliczen/copy_of_egzamin-z-inz
 ynierii-oprogramowania-1-studia-stacjonarne
END:VEVENT
BEGIN:VTIMEZONE
TZID:Europe/Warsaw
X-LIC-LOCATION:Europe/Warsaw
BEGIN:STANDARD
DTSTART;VALUE=DATE-TIME:20251026T020000
TZNAME:CET
TZOFFSETFROM:+0200
TZOFFSETTO:+0100
END:STANDARD
END:VTIMEZONE
END:VCALENDAR
