BEGIN:VCALENDAR
VERSION:2.0
PRODID:-//Plone.org//NONSGML plone.app.event//EN
X-WR-TIMEZONE:Europe/Warsaw
BEGIN:VEVENT
SUMMARY:Drugie kolokwium poprawkowe z Systemów operacyjnych 1 (III termin
 )
DTSTART;TZID=Europe/Warsaw;VALUE=DATE-TIME:20260218T120000
DTEND;TZID=Europe/Warsaw;VALUE=DATE-TIME:20260218T133000
DTSTAMP;VALUE=DATE-TIME:20260424T191514Z
UID:1b351121feb449a2a5338b4ab2fd0dd6@127.0.0.1:6969
ATTENDEE;CN="Studenci drugiego roku kierunku Informatyka, studia stacjonar
 ne.";ROLE=REQ-PARTICIPANT:Studenci drugiego roku kierunku Informatyka, stu
 dia stacjonarne.
CREATED;VALUE=DATE-TIME:20260121T210029Z
DESCRIPTION:Trzeci termin kolokwium z Systemów operacyjnych 1 dla student
 ów drugiego roku kierunku Informatyka\, studia stacjonarne.
LAST-MODIFIED;VALUE=DATE-TIME:20260228T143513Z
LOCATION:3.12 D
URL:https://achilles.tu.kielce.pl/portal/Members/84df831b59534bdc88bef09b1
 5e73c99/archive/semestr-i-2025-2026/terminy-zaliczen/copy2_of_kolokwium-z-
 systemow-operacyjnych-1-i-termin
END:VEVENT
BEGIN:VTIMEZONE
TZID:Europe/Warsaw
X-LIC-LOCATION:Europe/Warsaw
BEGIN:STANDARD
DTSTART;VALUE=DATE-TIME:20251026T020000
TZNAME:CET
TZOFFSETFROM:+0200
TZOFFSETTO:+0100
END:STANDARD
END:VTIMEZONE
END:VCALENDAR
