BEGIN:VCALENDAR
VERSION:2.0
PRODID:-//Plone.org//NONSGML plone.app.event//EN
X-WR-TIMEZONE:Europe/Warsaw
BEGIN:VEVENT
SUMMARY:Fundamentals of Programming 1 Lecture - Final Test (III Term)
DTSTART;TZID=Europe/Warsaw;VALUE=DATE-TIME:20210219T180000
DTEND;TZID=Europe/Warsaw;VALUE=DATE-TIME:20210219T193000
DTSTAMP;VALUE=DATE-TIME:20260424T015215Z
UID:e3b50ae4a160439f8bbd3b3d4266e891@127.0.0.1:6969
ATTENDEE;CN="First-year students of Computer Science (English language gro
 up).";ROLE=REQ-PARTICIPANT:First-year students of Computer Science (Englis
 h language group).
CREATED;VALUE=DATE-TIME:20200202T180354Z
DESCRIPTION:The Final Test from the Fundamentals of Programming  Lecture  
 (III term) for first-year Computer Science students.
LAST-MODIFIED;VALUE=DATE-TIME:20210216T201119Z
LOCATION:an online test
URL:https://achilles.tu.kielce.pl/portal/Members/84df831b59534bdc88bef09b1
 5e73c99/archive/semestr-i-2020-2021/terminy-zaliczen/copy2_of_the-test-fro
 m-the-fundamentals-of-programming-1-lecture-i-term
END:VEVENT
BEGIN:VTIMEZONE
TZID:Europe/Warsaw
X-LIC-LOCATION:Europe/Warsaw
BEGIN:STANDARD
DTSTART;VALUE=DATE-TIME:20201025T020000
TZNAME:CET
TZOFFSETFROM:+0200
TZOFFSETTO:+0100
END:STANDARD
END:VTIMEZONE
END:VCALENDAR
