BEGIN:VCALENDAR
VERSION:2.0
PRODID:-//Plone.org//NONSGML plone.app.event//EN
X-WR-TIMEZONE:Europe/Warsaw
BEGIN:VEVENT
SUMMARY:Egzamin z Inżynierii Programowania (II termin)
DTSTART;TZID=Europe/Warsaw;VALUE=DATE-TIME:20210215T100000
DTEND;TZID=Europe/Warsaw;VALUE=DATE-TIME:20210215T110000
DTSTAMP;VALUE=DATE-TIME:20260424T015215Z
UID:b6d6ecf5a5a444b59432de4272d2dcc2@127.0.0.1:6969
ATTENDEE;CN="Studenci trzeciego roku kierunku Informatyka, specjalność G
 rafika Komputerowa, studia stacjonarne.";ROLE=REQ-PARTICIPANT:Studenci trz
 eciego roku kierunku Informatyka, specjalność Grafika Komputerowa, studi
 a stacjonarne.
CREATED;VALUE=DATE-TIME:20210125T003119Z
DESCRIPTION:Egzamin z Inżynierii Programowania (II termin) dla studentów
  trzeciego roku kierunku Informatyka\, specjalność Grafika Komputerowa\,
  studia stacjonarne.
LAST-MODIFIED;VALUE=DATE-TIME:20210213T113848Z
LOCATION:egzamin zdalny
URL:https://achilles.tu.kielce.pl/portal/Members/84df831b59534bdc88bef09b1
 5e73c99/archive/semestr-i-2020-2021/terminy-zaliczen/copy2_of_egazmin-z-in
 zynierii-programowania-i-termin
END:VEVENT
BEGIN:VTIMEZONE
TZID:Europe/Warsaw
X-LIC-LOCATION:Europe/Warsaw
BEGIN:STANDARD
DTSTART;VALUE=DATE-TIME:20201025T020000
TZNAME:CET
TZOFFSETFROM:+0200
TZOFFSETTO:+0100
END:STANDARD
END:VTIMEZONE
END:VCALENDAR
