BEGIN:VCALENDAR
VERSION:2.0
PRODID:-//Plone.org//NONSGML plone.app.event//EN
X-WR-TIMEZONE:Europe/Warsaw
BEGIN:VEVENT
SUMMARY:The Test from the Fundamentals of Programming 1 Lecture (I Term)
DTSTART;TZID=Europe/Warsaw;VALUE=DATE-TIME:20200203T100000
DTEND;TZID=Europe/Warsaw;VALUE=DATE-TIME:20200203T113000
DTSTAMP;VALUE=DATE-TIME:20260425T151029Z
UID:46441b549984477fb449e8f7b984c448@127.0.0.1:6969
ATTENDEE;CN="First-year students of Computer Science (English language gro
 up).";ROLE=REQ-PARTICIPANT:First-year students of Computer Science (Englis
 h language group).
CREATED;VALUE=DATE-TIME:20200202T180354Z
DESCRIPTION:The Test from the Fundamentals of Programming  Lecture  (I ter
 m) for first-year Computer Science students.
LAST-MODIFIED;VALUE=DATE-TIME:20200202T180433Z
LOCATION:3.12 D
URL:https://achilles.tu.kielce.pl/portal/Members/84df831b59534bdc88bef09b1
 5e73c99/archive/semestr-i-2019-2020/terminy-zaliczen/the-test-from-the-fun
 damentals-of-programming-1-lecture-i-term
END:VEVENT
BEGIN:VTIMEZONE
TZID:Europe/Warsaw
X-LIC-LOCATION:Europe/Warsaw
BEGIN:STANDARD
DTSTART;VALUE=DATE-TIME:20191027T020000
TZNAME:CET
TZOFFSETFROM:+0200
TZOFFSETTO:+0100
END:STANDARD
END:VTIMEZONE
END:VCALENDAR
