BEGIN:VCALENDAR
VERSION:2.0
PRODID:-//Plone.org//NONSGML plone.app.event//EN
X-WR-TIMEZONE:Europe/Warsaw
BEGIN:VEVENT
SUMMARY:Kolokwium poprawkowe z Podstaw Programowania 1 (III termin)
DTSTART;TZID=Europe/Warsaw;VALUE=DATE-TIME:20200219T160000
DTEND;TZID=Europe/Warsaw;VALUE=DATE-TIME:20200219T180000
DTSTAMP;VALUE=DATE-TIME:20260424T083155Z
UID:60ed88eec518476da30e67ad922f9342@127.0.0.1:6969
ATTENDEE;CN="Studenci pierwszego roku Informatyki, studia stacjonarne.";RO
 LE=REQ-PARTICIPANT:Studenci pierwszego roku Informatyki, studia stacjonarn
 e.
CREATED;VALUE=DATE-TIME:20200216T191821Z
DESCRIPTION:Kolokwium poprawkowe z Podstaw Programowania 1 (III termin) dl
 a studentów pierwszego roku Informatyki\, studia stacjonarne.
LAST-MODIFIED;VALUE=DATE-TIME:20200218T114336Z
LOCATION:3.12 D
URL:https://achilles.tu.kielce.pl/portal/Members/84df831b59534bdc88bef09b1
 5e73c99/archive/semestr-i-2019-2020/terminy-zaliczen/kolokwium-poprawkowe-
 z-podstaw-programowania-1-iii-termin
END:VEVENT
BEGIN:VTIMEZONE
TZID:Europe/Warsaw
X-LIC-LOCATION:Europe/Warsaw
BEGIN:STANDARD
DTSTART;VALUE=DATE-TIME:20191027T020000
TZNAME:CET
TZOFFSETFROM:+0200
TZOFFSETTO:+0100
END:STANDARD
END:VTIMEZONE
END:VCALENDAR
