BEGIN:VCALENDAR
VERSION:2.0
PRODID:-//Plone.org//NONSGML plone.app.event//EN
X-WR-TIMEZONE:Europe/Warsaw
BEGIN:VEVENT
SUMMARY:Egzamin z Podstaw Inżynierii Programowania (II termin)
DTSTART;TZID=Europe/Warsaw;VALUE=DATE-TIME:20200219T100000
DTEND;TZID=Europe/Warsaw;VALUE=DATE-TIME:20200219T120000
DTSTAMP;VALUE=DATE-TIME:20260423T174032Z
UID:6c5dd1946e8e462a9485a545828beb98@127.0.0.1:6969
ATTENDEE;CN="Studenci trzeciego roku Informatyki, studia stacjonarne, spec
 jalność Systemy Informacyjne.";ROLE=REQ-PARTICIPANT:Studenci trzeciego r
 oku Informatyki, studia stacjonarne, specjalność Systemy Informacyjne.
CREATED;VALUE=DATE-TIME:20200128T231406Z
DESCRIPTION:Egzamin z Podstaw Inżynierii Programowania (II termin) dla st
 udentów trzeciego roku Informatyki\, studia stacjonarne\, specjalność S
 ystemy Informacyjne.
LAST-MODIFIED;VALUE=DATE-TIME:20200216T190641Z
LOCATION:3.12 D
URL:https://achilles.tu.kielce.pl/portal/Members/84df831b59534bdc88bef09b1
 5e73c99/archive/semestr-i-2019-2020/terminy-zaliczen/egzamin-z-podstaw-inz
 ynierii-programowania-ii-termin
END:VEVENT
BEGIN:VTIMEZONE
TZID:Europe/Warsaw
X-LIC-LOCATION:Europe/Warsaw
BEGIN:STANDARD
DTSTART;VALUE=DATE-TIME:20191027T020000
TZNAME:CET
TZOFFSETFROM:+0200
TZOFFSETTO:+0100
END:STANDARD
END:VTIMEZONE
END:VCALENDAR
