BEGIN:VCALENDAR
VERSION:2.0
PRODID:-//Plone.org//NONSGML plone.app.event//EN
X-WR-TIMEZONE:Europe/Warsaw
BEGIN:VEVENT
SUMMARY:[ML] Termin "1" oddawania projektów z przedmiotu Programowanie Ob
 iektowe 1
DTSTART;TZID=Europe/Warsaw;VALUE=DATE-TIME:20250627T130000
DTEND;TZID=Europe/Warsaw;VALUE=DATE-TIME:20250627T150000
DTSTAMP;VALUE=DATE-TIME:20260420T151002Z
UID:e277155ca8d848c79c83f8a222acbb10@127.0.0.1:6969
CREATED;VALUE=DATE-TIME:20240607T080612Z
LAST-MODIFIED;VALUE=DATE-TIME:20250618T084308Z
LOCATION:3.24D
URL:https://achilles.tu.kielce.pl/portal/Members/596d88a5187b42e2bad090bb6
 6227a25/events/ml-termin-1-oddawania-projektow-z-przedmiotu-programowanie-
 obiektowe-1
END:VEVENT
BEGIN:VTIMEZONE
TZID:Europe/Warsaw
X-LIC-LOCATION:Europe/Warsaw
BEGIN:DAYLIGHT
DTSTART;VALUE=DATE-TIME:20250330T030000
TZNAME:CEST
TZOFFSETFROM:+0100
TZOFFSETTO:+0200
END:DAYLIGHT
END:VTIMEZONE
END:VCALENDAR
