BEGIN:VCALENDAR
VERSION:2.0
PRODID:-//Plone.org//NONSGML plone.app.event//EN
X-WR-TIMEZONE:Europe/Warsaw
BEGIN:VEVENT
SUMMARY:Programowanie Obiektowe\, projekt -- 3 termin
DTSTART;TZID=Europe/Warsaw;VALUE=DATE-TIME:20230913T110000
DTEND;TZID=Europe/Warsaw;VALUE=DATE-TIME:20230913T120000
DTSTAMP;VALUE=DATE-TIME:20260422T092503Z
UID:2b3b02ba383f4703aa14b79f1d6d7932@127.0.0.1:6969
CREATED;VALUE=DATE-TIME:20230904T074932Z
DESCRIPTION:3 termin oddawania projektów z Programowania Obiektowego
LAST-MODIFIED;VALUE=DATE-TIME:20230904T075024Z
LOCATION:3.10D
URL:https://achilles.tu.kielce.pl/portal/Members/40497fcdfd8a4cbc8ffd09979
 80139c3/programowanie-obiektowe-java/programowanie-obiektowe-projekt-3-ter
 min
END:VEVENT
BEGIN:VTIMEZONE
TZID:Europe/Warsaw
X-LIC-LOCATION:Europe/Warsaw
BEGIN:DAYLIGHT
DTSTART;VALUE=DATE-TIME:20230326T030000
TZNAME:CEST
TZOFFSETFROM:+0100
TZOFFSETTO:+0200
END:DAYLIGHT
END:VTIMEZONE
END:VCALENDAR
