BEGIN:VCALENDAR
VERSION:2.0
PRODID:-//Plone.org//NONSGML plone.app.event//EN
X-WR-TIMEZONE:Europe/Warsaw
BEGIN:VEVENT
SUMMARY:Inżynieria Programowania laboratorium II termin
DTSTART;TZID=Europe/Warsaw;VALUE=DATE-TIME:20240130T110000
DTEND;TZID=Europe/Warsaw;VALUE=DATE-TIME:20240130T120000
DTSTAMP;VALUE=DATE-TIME:20260421T123327Z
UID:b23dc64494ae47518dadf1f610bd22e1@127.0.0.1:6969
CREATED;VALUE=DATE-TIME:20240123T080611Z
LAST-MODIFIED;VALUE=DATE-TIME:20240123T080620Z
LOCATION:308
URL:https://achilles.tu.kielce.pl/portal/Members/40497fcdfd8a4cbc8ffd09979
 80139c3/inzynieria-programowania-i-podstawy-inzynierii-programowania/inzyn
 ieria-programowania-laboratorium-ii-termin
END:VEVENT
BEGIN:VTIMEZONE
TZID:Europe/Warsaw
X-LIC-LOCATION:Europe/Warsaw
BEGIN:STANDARD
DTSTART;VALUE=DATE-TIME:20231029T020000
TZNAME:CET
TZOFFSETFROM:+0200
TZOFFSETTO:+0100
END:STANDARD
END:VTIMEZONE
END:VCALENDAR
