BEGIN:VCALENDAR
VERSION:2.0
PRODID:-//Plone.org//NONSGML plone.app.event//EN
X-WR-TIMEZONE:Europe/Warsaw
BEGIN:VEVENT
SUMMARY:Inteligentne Usługi Informacyjne - Egzamin 2
DTSTART;TZID=Europe/Warsaw;VALUE=DATE-TIME:20260219T100000
DTEND;TZID=Europe/Warsaw;VALUE=DATE-TIME:20260219T113000
DTSTAMP;VALUE=DATE-TIME:20260424T171135Z
UID:a5e928c4a76b43a782d682452b35e55e@127.0.0.1:6969
CREATED;VALUE=DATE-TIME:20260120T161450Z
LAST-MODIFIED;VALUE=DATE-TIME:20260120T161455Z
LOCATION:326
URL:https://achilles.tu.kielce.pl/portal/Members/40497fcdfd8a4cbc8ffd09979
 80139c3/inteligentne-uslugi-informacyjne/inteligentne-uslugi-informacyjne-
 egzamin-2
END:VEVENT
BEGIN:VTIMEZONE
TZID:Europe/Warsaw
X-LIC-LOCATION:Europe/Warsaw
BEGIN:STANDARD
DTSTART;VALUE=DATE-TIME:20251026T020000
TZNAME:CET
TZOFFSETFROM:+0200
TZOFFSETTO:+0100
END:STANDARD
END:VTIMEZONE
END:VCALENDAR
